BEGIN:VCALENDAR
VERSION:2.0
PRODID:Events Booking
BEGIN:VEVENT
UID:69e8bcc9a66b5
SUMMARY:WK für NHB-Brevetinstruktoren/innen 2026/27 mit Andreas Nyffeler
DESCRIPTION:
LOCATION:Waldrandweg\, 4310 Rheinfelden\, Schweiz
DTSTART:20261129T083000Z
DTSTAMP:20260329T123323Z
ORGANIZER;CN=KVAK:MAILTO:info@kvak.ch
GEO:47.569729;7.82328
X-APPLE-STRUCTURED-LOCATION;VALUE=URI;X-ADDRESS=Waldrandweg\, 4310 Rheinfel
 den\, Schweiz;X-APPLE-RADIUS=72;X-TITLE=KV Rheinfelden - Möhlin:47.569729
 ;7.82328
END:VEVENT
END:VCALENDAR