BEGIN:VCALENDAR
VERSION:2.0
PRODID:Events Booking
BEGIN:VEVENT
UID:69e8c36530a64
SUMMARY:Delegiertenversammlung KVAK 2027
DESCRIPTION:
DTSTART:20270402T193000Z
DTSTAMP:20260329T122643Z
ORGANIZER;CN=KVAK:MAILTO:info@kvak.ch
END:VEVENT
END:VCALENDAR