BEGIN:VCALENDAR
VERSION:2.0
PRODID:Events Booking
BEGIN:VEVENT
UID:69e8bcf9b9dfa
SUMMARY:﻿Lerntheorie\, Rassenkunde\, Verhalten von Hunden mit erhöhtem G
 efährdungspotenzial mit Dr. Katja Leicht & Andreas Nyffeler (Ausbildungsm
 odul 3 NHB-Brevetinstruktor KVAK) 
DESCRIPTION:
LOCATION:Waldrandweg\, 4310 Rheinfelden\, Schweiz
DTSTART:20261004T000000Z
DTSTAMP:20260324T132336Z
ORGANIZER;CN=KVAK:MAILTO:info@kvak.ch
GEO:47.569729;7.82328
X-APPLE-STRUCTURED-LOCATION;VALUE=URI;X-ADDRESS=Waldrandweg\, 4310 Rheinfel
 den\, Schweiz;X-APPLE-RADIUS=72;X-TITLE=KV Rheinfelden - Möhlin:47.569729
 ;7.82328
END:VEVENT
END:VCALENDAR