BEGIN:VCALENDAR
VERSION:2.0
PRODID:Events Booking
BEGIN:VEVENT
UID:69e8c3cb67b73
SUMMARY:Top-UO-Training in kleiner Gruppe mit Selina Iten
DESCRIPTION:
LOCATION:Nähe Schwimmbadstrasse 18\, 5000 Aarau\, Schweiz
DTSTART:20261003T000000Z
DTEND:20261004T000000Z
DTSTAMP:20260323T143134Z
ORGANIZER;CN=KVAK:MAILTO:info@kvak.ch
GEO:47.389953;8.029905
X-APPLE-STRUCTURED-LOCATION;VALUE=URI;X-ADDRESS=Nähe Schwimmbadstrasse 18\
 , 5000 Aarau\, Schweiz;X-APPLE-RADIUS=72;X-TITLE=SC OG Aarau:47.389953;8.0
 29905
END:VEVENT
END:VCALENDAR