BEGIN:VCALENDAR
VERSION:2.0
PRODID:Events Booking
BEGIN:VEVENT
UID:69e8bb84173f5
SUMMARY:Erwachsenenbildung/Andragogik mit Katharina Brunelli (Ausbildungsmo
 dul 2 NHB-Brevetinstruktor KVAK) 
DESCRIPTION:
DTSTART:20260606T000000Z
DTEND:20260627T000000Z
DTSTAMP:20260130T065233Z
ORGANIZER;CN=KVAK:MAILTO:info@kvak.ch
END:VEVENT
END:VCALENDAR