BEGIN:VCALENDAR
VERSION:2.0
PRODID:Events Booking
BEGIN:VEVENT
UID:69e8bd4b65a12
SUMMARY:BH/VT-Workshop nach neuster PO / inkl. Verkehrsteil mit Nicole Inga
 la
DESCRIPTION:
LOCATION:Fussballplatz Grie\, Grieweg 934\, 5313 Klingnau\, Schweiz
DTSTART:20260530T090000Z
DTEND:20260530T163000Z
DTSTAMP:20260127T111403Z
ORGANIZER;CN=KVAK:MAILTO:info@kvak.ch
GEO:47.586736;8.239694
X-APPLE-STRUCTURED-LOCATION;VALUE=URI;X-ADDRESS=Fussballplatz Grie\, Griewe
 g 934\, 5313 Klingnau\, Schweiz;X-APPLE-RADIUS=72;X-TITLE=KV Klingnau:47.5
 86736;8.239694
END:VEVENT
END:VCALENDAR