BEGIN:VCALENDAR
VERSION:2.0
PRODID:Events Booking
BEGIN:VEVENT
UID:69e8bcf9b9df9
SUMMARY:Theorie und Praxis NHB mit Peter Bieri & Eva Witschi (Ausbildungsmo
 dul 1 NHB-Brevetinstruktor KVAK)
DESCRIPTION:
LOCATION:Herrengasse\, 5702 Niederlenz\, Schweiz
DTSTART:20260815T083000Z
DTEND:20260815T163000Z
DTSTAMP:20260120T104905Z
ORGANIZER;CN=KVAK:MAILTO:info@kvak.ch
GEO:47.407246;8.164487
X-APPLE-STRUCTURED-LOCATION;VALUE=URI;X-ADDRESS=Herrengasse\, 5702 Niederle
 nz\, Schweiz;X-APPLE-RADIUS=72;X-TITLE=KV Niederlenz:47.407246;8.164487
END:VEVENT
END:VCALENDAR