BEGIN:VCALENDAR
VERSION:2.0
PRODID:Events Booking
BEGIN:VEVENT
UID:69e8bb5a43cc7
SUMMARY:Top-UO-Training in kleiner Gruppe mit Selina Iten
DESCRIPTION:
LOCATION:Nähe Schwimmbadstrasse 18\, 5000 Aarau\, Schweiz
DTSTART:20260502T000000Z
DTEND:20260503T000000Z
DTSTAMP:20260107T133208Z
ORGANIZER;CN=KVAK:MAILTO:info@kvak.ch
GEO:47.389953;8.029905
X-APPLE-STRUCTURED-LOCATION;VALUE=URI;X-ADDRESS=Nähe Schwimmbadstrasse 18\
 , 5000 Aarau\, Schweiz;X-APPLE-RADIUS=72;X-TITLE=SC OG Aarau:47.389953;8.0
 29905
END:VEVENT
END:VCALENDAR