BEGIN:VCALENDAR
VERSION:2.0
PRODID:Events Booking
BEGIN:VEVENT
UID:69e83de5ed130
SUMMARY:Brevetprüfung NHB des KVAK – Abendprüfung / KV Rheinfelden-Möh
 lin
DESCRIPTION:Theorie- und praktische Prüfung Nationales Hundehalterbrevet (
 NHB des KVAK\, nur kantonale Anerkennung)\, neue Prüfungsordnung 2025 / p
 raktische Prüfung Halteberechtigung des Kantons Aargau Prüfungsablauf: 1
 7:00 Uhr Theorie\,&nbsp\; ab 18:00 Uhr PraxisPrüfungsordnung und Prüfung
 sgebühren: siehe Info-Seite des KVAKAnmeldung nur online. Die Anmeldung i
 st frühestens 2 Monate vor dem Prüfungstermin möglich. Die Anmeldung zu
 r Prüfung erfolgt mit dem Formular unter \"Anmelden\". Nach Eingang der A
 nmeldung erscheint der Name des Teilnehmer/in in der Teilnehmerliste. Die 
 Informationen über den Ablauf am Prüfungstag folgen in der Woche vor der
  Prüfung.
LOCATION:Waldrandweg\, 4310 Rheinfelden\, Schweiz
DTSTART:20260807T170000Z
DTSTAMP:20251220T174248Z
ORGANIZER;CN=KVAK:MAILTO:info@kvak.ch
GEO:47.569729;7.82328
X-APPLE-STRUCTURED-LOCATION;VALUE=URI;X-ADDRESS=Waldrandweg\, 4310 Rheinfel
 den\, Schweiz;X-APPLE-RADIUS=72;X-TITLE=KV Rheinfelden - Möhlin:47.569729
 ;7.82328
END:VEVENT
END:VCALENDAR