BEGIN:VCALENDAR
VERSION:2.0
PRODID:Events Booking
BEGIN:VEVENT
UID:69e8bcc9a0ce3
SUMMARY:5. Fährten-Workshop Claudia Frey & Eva Witschi
DESCRIPTION:
LOCATION:Eschenbach\, Schweiz
DTSTART:20261031T083000Z
DTEND:20261101T163000Z
DTSTAMP:20251219T170638Z
ORGANIZER;CN=KVAK:MAILTO:info@kvak.ch
GEO:47.132764;8.319947
X-APPLE-STRUCTURED-LOCATION;VALUE=URI;X-ADDRESS=Eschenbach\, Schweiz;X-APPL
 E-RADIUS=72;X-TITLE=Eschenbach:47.132764;8.319947
END:VEVENT
END:VCALENDAR