BEGIN:VCALENDAR
VERSION:2.0
PRODID:Events Booking
BEGIN:VEVENT
UID:69e8831ea4dd3
SUMMARY:Brevetprüfung NHB
DESCRIPTION:Info und Anmeldung:&nbsp\;https://www.kvgt.ch/events/pruefungen
 _nhb
LOCATION:Friedhofweg\, 5412 Gebenstorf\, Schweiz
DTSTART:20261018T090000Z
DTSTAMP:20251203T211955Z
ORGANIZER;CN=KVAK:MAILTO:info@kvak.ch
GEO:47.484296;8.239384
X-APPLE-STRUCTURED-LOCATION;VALUE=URI;X-ADDRESS=Friedhofweg\, 5412 Gebensto
 rf\, Schweiz;X-APPLE-RADIUS=72;X-TITLE=KV Gebenstorf-Turgi:47.484296;8.239
 384
END:VEVENT
END:VCALENDAR