BEGIN:VCALENDAR
VERSION:2.0
PRODID:Events Booking
BEGIN:VEVENT
UID:69e83e527a156
SUMMARY:Brevetprüfung NHB des KVAK / KV Niederlenz
DESCRIPTION:
 Theorie- und praktische Prüfung Nationales Hundehalterbreve
 t (NHB des KVAK\, nur kantonale Anerkennung)\, neue Prüfungsordnung 2025 
 / praktische Prüfung Halteberechtigung des Kantons Aargau&nbsp\;&nbsp\;&n
 bsp\;Prüfungsordnung und Prüfungsgebühren: siehe Info-Seite des KVAK
 
 Anmeldung nur online. Die Anmeldung ist frühestens 2 Monate vor dem Prüf
 ungstermin möglich. Die Anmeldung zur Prüfung erfolgt mit dem Formular u
 nter \"Anmelden\". Nach Eingang der Anmeldung erscheint der Name des Teiln
 ehmer/in in der Teilnehmerliste. Die Informationen über den Ablauf am Pr
 üfungstag folgen in der Woche vor der Prüfung.
 
LOCATION:Herrengasse\, 5702 Niederlenz\, Schweiz
DTSTART:20260920T090000Z
DTSTAMP:20250618T185849Z
ORGANIZER;CN=KVAK:MAILTO:info@kvak.ch
GEO:47.407246;8.164487
X-APPLE-STRUCTURED-LOCATION;VALUE=URI;X-ADDRESS=Herrengasse\, 5702 Niederle
 nz\, Schweiz;X-APPLE-RADIUS=72;X-TITLE=KV Niederlenz:47.407246;8.164487
END:VEVENT
END:VCALENDAR