BEGIN:VCALENDAR
VERSION:2.0
PRODID:Events Booking
BEGIN:VEVENT
UID:69e88e27057eb
SUMMARY:13. Workshop mit Ursi Gerhard & Barbara Berger: Gegenstandsrevier n
 ach NPO (Wiederholung)
DESCRIPTION:Seminarleitung: Ursi Gerhard und Barbara BergerAuch für Sporth
 undetrainer geeignet. Kurswiederholung und Fortsetzung der vorangegangenen
  Seminare. Teilnehmerzahl begrenzt\, es wird in kleinen Gruppen gearbeitet
 \, alle Ausbildungsstufen willkommen\, auch Neueinsteiger. Maximale Teilne
 hmerzahl: 12 mit Hund\, 8 ohne Hund
LOCATION:Waldrandweg\, 4310 Rheinfelden\, Schweiz
DTSTART:20260322T080000Z
DTSTAMP:20260422T110023Z
ORGANIZER;CN=KVAK:MAILTO:info@kvak.ch
GEO:47.569729;7.82328
X-APPLE-STRUCTURED-LOCATION;VALUE=URI;X-ADDRESS=Waldrandweg\, 4310 Rheinfel
 den\, Schweiz;X-APPLE-RADIUS=72;X-TITLE=KV Rheinfelden - Möhlin:47.569729
 ;7.82328
END:VEVENT
END:VCALENDAR