BEGIN:VCALENDAR
VERSION:2.0
PRODID:Events Booking
BEGIN:VEVENT
UID:69e7318e19ace
SUMMARY:Brevetprüfung NHB des KVAK / KV Niederlenz
DESCRIPTION:
 Theorie- und praktische Prüfung Nationales Hundehalterbreve
 t (NHB des KVAK)\, neue Prüfungsordnung 2025 / praktische Prüfung Halteb
 erechtigung des Kantons Aargau&nbsp\;&nbsp\;Prüfungsordnung und Prüfungs
 gebühren: siehe Info-Seite des KVAK
 Anmeldung nur online. Die Anmeldung
  ist frühestens 2 Monate vor dem Prüfungstermin möglich. Die Anmeldung 
 zur Prüfung erfolgt mit dem Formular unter \"Anmelden\". Nach Eingang der
  Anmeldung erscheint der Name des Teilnehmer/in in der Teilnehmerliste. Di
 e Informationen über den Ablauf am Prüfungstag folgen in der Woche vor d
 er Prüfung.
 
LOCATION:Herrengasse\, 5702 Niederlenz\, Schweiz
DTSTART:20250921T000000Z
DTSTAMP:20260421T101302Z
ORGANIZER;CN=KVAK:MAILTO:info@kvak.ch
GEO:47.407246;8.164487
X-APPLE-STRUCTURED-LOCATION;VALUE=URI;X-ADDRESS=Herrengasse\, 5702 Niederle
 nz\, Schweiz;X-APPLE-RADIUS=72;X-TITLE=KV Niederlenz:47.407246;8.164487
END:VEVENT
END:VCALENDAR